BEGIN:VCALENDAR
VERSION:2.0
PRODID:-//Tukios.com/
BEGIN:VEVENT
UID:c975fe2e-ec5d-4cbe-a94a-a49b0cfd830a@www.westoverfuneraldirectors.net
DTSTAMP:20260421T104401Z
DTSTART:20261224T180000Z
DTEND:20261224T190000Z
SUMMARY:Memorial Service
DESCRIPTION:
URL:https://www.westoverfuneraldirectors.net/obituaries/harold-bennett
LOCATION:Doretha H. Payne Memorial Chapel at Westover 515 North Westover 
	Boulevard  Albany GA 31707
GEO:31.6060337;-84.2224964
END:VEVENT
END:VCALENDAR