BEGIN:VCALENDAR
VERSION:2.0
PRODID:-//Tukios.com/
BEGIN:VEVENT
UID:fc3deea9-66b3-441a-ba0e-dc4f05454d7d@www.westoverfuneraldirectors.net
DTSTAMP:20260421T094603Z
DTSTART:20261115T200000Z
DTEND:20261115T210000Z
SUMMARY:Funeral Service
DESCRIPTION:
URL:https://www.westoverfuneraldirectors.net/obituaries/jaylan-bell
LOCATION:Greater Joy Cathedral Celebration of Praise Ministries, Inc. 
	2405 Lily Pond Road  Albany GA 31721
GEO:31.5129344;-84.2319457
END:VEVENT
END:VCALENDAR