BEGIN:VCALENDAR
VERSION:2.0
PRODID:-//Tukios.com/
BEGIN:VEVENT
UID:b160bb9f-6b73-46e2-acaf-e02b877cc8da@www.westoverfuneraldirectors.net
DTSTAMP:20260421T192642Z
DTSTART:20260425T150000Z
DTEND:20260425T160000Z
SUMMARY:Funeral Service
DESCRIPTION:
URL:https://www.westoverfuneraldirectors.net/obituaries/mary-johnson
LOCATION: 2405 Lily Pond Road  Albany GA 31721
GEO:31.5129344;-84.2319457
END:VEVENT
END:VCALENDAR