BEGIN:VCALENDAR
VERSION:2.0
PRODID:-//Tukios.com/
BEGIN:VEVENT
UID:6f291b2f-9b13-4c6f-8858-fd8a14ec1c1e@www.westoverfuneraldirectors.net
DTSTAMP:20260421T192740Z
DTSTART:20260425
SUMMARY:Burial
DESCRIPTION:
URL:https://www.westoverfuneraldirectors.net/obituaries/mary-johnson
LOCATION: 1100 S McKinley St  Albany GA 31701
GEO:31.5638386;-84.1663265
END:VEVENT
END:VCALENDAR